ENVI
description = { GEO-TIFF File Imported into ENVI [Tue Dec 01 05:41:04 2020]}
samples = 1383
lines = 586
bands = 1
header offset = 0
file type = ENVI Standard
data type = 4
interleave = bsq
sensor type = Unknown
byte order = 0
map info = {NSIDC_EASE_Grid_Global, 1.0000, 1.0000, -17334193.5375, 7344784.8250, 2.5067525000e+004, 2.5067525000e+004, D_Sphere_International_1924_Authalic, units=Meters}
coordinate system string = {PROJCS["NSIDC_EASE_Grid_Global",GEOGCS["GCS_Sphere_International_1924_Authalic",DATUM["D_Sphere_International_1924_Authalic",SPHEROID["Sphere_International_1924_Authalic",6371228.0,0.0]],PRIMEM["Greenwich",0.0],UNIT["Degree",0.0174532925199433]],PROJECTION["Cylindrical_Equal_Area"],PARAMETER["False_Easting",0.0],PARAMETER["False_Northing",0.0],PARAMETER["Central_Meridian",0.0],PARAMETER["Standard_Parallel_1",30.0],UNIT["Meter",1.0]]}
wavelength units = Unknown
